BEGIN:VCALENDAR
VERSION:2.0
PRODID:-//Regional Recycling Coordinating Committee - ECPv6.15.17.1//NONSGML v1.0//EN
CALSCALE:GREGORIAN
METHOD:PUBLISH
X-WR-CALNAME:Regional Recycling Coordinating Committee
X-ORIGINAL-URL:https://midmichrecycles.org
X-WR-CALDESC:Events for Regional Recycling Coordinating Committee
REFRESH-INTERVAL;VALUE=DURATION:PT1H
X-Robots-Tag:noindex
X-PUBLISHED-TTL:PT1H
BEGIN:VTIMEZONE
TZID:America/Halifax
BEGIN:DAYLIGHT
TZOFFSETFROM:-0400
TZOFFSETTO:-0300
TZNAME:ADT
DTSTART:20160313T060000
END:DAYLIGHT
BEGIN:STANDARD
TZOFFSETFROM:-0300
TZOFFSETTO:-0400
TZNAME:AST
DTSTART:20161106T050000
END:STANDARD
BEGIN:DAYLIGHT
TZOFFSETFROM:-0400
TZOFFSETTO:-0300
TZNAME:ADT
DTSTART:20170312T060000
END:DAYLIGHT
BEGIN:STANDARD
TZOFFSETFROM:-0300
TZOFFSETTO:-0400
TZNAME:AST
DTSTART:20171105T050000
END:STANDARD
BEGIN:DAYLIGHT
TZOFFSETFROM:-0400
TZOFFSETTO:-0300
TZNAME:ADT
DTSTART:20180311T060000
END:DAYLIGHT
BEGIN:STANDARD
TZOFFSETFROM:-0300
TZOFFSETTO:-0400
TZNAME:AST
DTSTART:20181104T050000
END:STANDARD
END:VTIMEZONE
BEGIN:VEVENT
DTSTART;TZID=America/Halifax:20170923T090000
DTEND;TZID=America/Halifax:20170923T120000
DTSTAMP:20260425T202703
CREATED:20170912T222211Z
LAST-MODIFIED:20170912T224458Z
UID:162-1506157200-1506168000@midmichrecycles.org
SUMMARY:Clinton County Medication Event
DESCRIPTION:
URL:https://midmichrecycles.org/event/clinton-county-medication-event/
LOCATION:Clinton County Health Fair at Agro-Culture Liquid Fertilizer\, 3055 M-21\, St. Johns\, MI\, 48879\, United States
END:VEVENT
END:VCALENDAR