BEGIN:VCALENDAR
VERSION:2.0
PRODID:-//Regional Recycling Coordinating Committee - ECPv6.15.17.1//NONSGML v1.0//EN
CALSCALE:GREGORIAN
METHOD:PUBLISH
X-ORIGINAL-URL:https://midmichrecycles.org
X-WR-CALDESC:Events for Regional Recycling Coordinating Committee
REFRESH-INTERVAL;VALUE=DURATION:PT1H
X-Robots-Tag:noindex
X-PUBLISHED-TTL:PT1H
BEGIN:VTIMEZONE
TZID:America/Halifax
BEGIN:DAYLIGHT
TZOFFSETFROM:-0400
TZOFFSETTO:-0300
TZNAME:ADT
DTSTART:20170312T060000
END:DAYLIGHT
BEGIN:STANDARD
TZOFFSETFROM:-0300
TZOFFSETTO:-0400
TZNAME:AST
DTSTART:20171105T050000
END:STANDARD
BEGIN:DAYLIGHT
TZOFFSETFROM:-0400
TZOFFSETTO:-0300
TZNAME:ADT
DTSTART:20180311T060000
END:DAYLIGHT
BEGIN:STANDARD
TZOFFSETFROM:-0300
TZOFFSETTO:-0400
TZNAME:AST
DTSTART:20181104T050000
END:STANDARD
BEGIN:DAYLIGHT
TZOFFSETFROM:-0400
TZOFFSETTO:-0300
TZNAME:ADT
DTSTART:20190310T060000
END:DAYLIGHT
BEGIN:STANDARD
TZOFFSETFROM:-0300
TZOFFSETTO:-0400
TZNAME:AST
DTSTART:20191103T050000
END:STANDARD
BEGIN:DAYLIGHT
TZOFFSETFROM:-0400
TZOFFSETTO:-0300
TZNAME:ADT
DTSTART:20200308T060000
END:DAYLIGHT
BEGIN:STANDARD
TZOFFSETFROM:-0300
TZOFFSETTO:-0400
TZNAME:AST
DTSTART:20201101T050000
END:STANDARD
BEGIN:DAYLIGHT
TZOFFSETFROM:-0400
TZOFFSETTO:-0300
TZNAME:ADT
DTSTART:20210314T060000
END:DAYLIGHT
BEGIN:STANDARD
TZOFFSETFROM:-0300
TZOFFSETTO:-0400
TZNAME:AST
DTSTART:20211107T050000
END:STANDARD
BEGIN:DAYLIGHT
TZOFFSETFROM:-0400
TZOFFSETTO:-0300
TZNAME:ADT
DTSTART:20220313T060000
END:DAYLIGHT
BEGIN:STANDARD
TZOFFSETFROM:-0300
TZOFFSETTO:-0400
TZNAME:AST
DTSTART:20221106T050000
END:STANDARD
END:VTIMEZONE
BEGIN:VEVENT
DTSTART;TZID=America/Halifax:20210225T190000
DTEND;TZID=America/Halifax:20210225T200000
DTSTAMP:20260425T124922
CREATED:20210204T182532Z
LAST-MODIFIED:20210204T182532Z
UID:632-1614279600-1614283200@midmichrecycles.org
SUMMARY:MSU Recycling Town Hall
DESCRIPTION:Join MSU Recycling at 7 pm the fourth Thursday of every month for an informative town hall. Each month will be a different topic\, but all are a great learning experience. Bring your questions\, as they will be answered live!
URL:https://midmichrecycles.org/event/msu-recycling-town-hall/
END:VEVENT
BEGIN:VEVENT
DTSTART;TZID=America/Halifax:20181215T090000
DTEND;TZID=America/Halifax:20181215T120000
DTSTAMP:20260425T124922
CREATED:20180613T192929Z
LAST-MODIFIED:20180613T192929Z
UID:502-1544864400-1544875200@midmichrecycles.org
SUMMARY:Monthly Electronics Recycling (Clinton\, Eaton\, Ingham)
DESCRIPTION:9:00 AM – 12:00 PM \nTypically the 3rd Saturday of the month. Check here for details.
URL:https://midmichrecycles.org/event/monthly-electronics-recycling-clinton-eaton-ingham-4/
LOCATION:Monthly Electronics Recycling\, 5717 Millett Hwy\, Lansing\, MI\, 48917\, United States
END:VEVENT
BEGIN:VEVENT
DTSTART;TZID=America/Halifax:20181214T140000
DTEND;TZID=America/Halifax:20181214T170000
DTSTAMP:20260425T124922
CREATED:20180613T155007Z
LAST-MODIFIED:20180613T172420Z
UID:409-1544796000-1544806800@midmichrecycles.org
SUMMARY:Clinton County Medication Collection
DESCRIPTION:2:00 PM – 5:00 PM \nSparrow Clinton Hospital Pharmacy
URL:https://midmichrecycles.org/event/medication-collection-2/
LOCATION:Sparrow Clinton Hospital Pharmacy\, 901 South Oakland St.\, St. Johns\, MI\, 48879\, United States
END:VEVENT
BEGIN:VEVENT
DTSTART;TZID=America/Halifax:20181117T090000
DTEND;TZID=America/Halifax:20181117T120000
DTSTAMP:20260425T124922
CREATED:20180613T192854Z
LAST-MODIFIED:20180613T192854Z
UID:500-1542445200-1542456000@midmichrecycles.org
SUMMARY:Monthly Electronics Recycling (Clinton\, Eaton\, Ingham)
DESCRIPTION:9:00 AM – 12:00 PM \nTypically the 3rd Saturday of the month. Check here for details.
URL:https://midmichrecycles.org/event/monthly-electronics-recycling-clinton-eaton-ingham-3/
LOCATION:Monthly Electronics Recycling\, 5717 Millett Hwy\, Lansing\, MI\, 48917\, United States
END:VEVENT
BEGIN:VEVENT
DTSTART;TZID=America/Halifax:20181020T090000
DTEND;TZID=America/Halifax:20181020T120000
DTSTAMP:20260425T124922
CREATED:20180613T192710Z
LAST-MODIFIED:20180613T192710Z
UID:498-1540026000-1540036800@midmichrecycles.org
SUMMARY:Monthly Electronics Recycling (Clinton\, Eaton\, Ingham)
DESCRIPTION:9:00 AM – 12:00 PM \nTypically the 3rd Saturday of the month. Check here for details.
URL:https://midmichrecycles.org/event/monthly-electronics-recycling-clinton-eaton-ingham-2/
LOCATION:Monthly Electronics Recycling\, 5717 Millett Hwy\, Lansing\, MI\, 48917\, United States
END:VEVENT
BEGIN:VEVENT
DTSTART;TZID=America/Halifax:20180929T090000
DTEND;TZID=America/Halifax:20180929T140000
DTSTAMP:20260425T124922
CREATED:20180613T173052Z
LAST-MODIFIED:20180613T173052Z
UID:422-1538211600-1538229600@midmichrecycles.org
SUMMARY:Regional Recycling Event (Clinton\, Eaton\, & Ingham Counties)
DESCRIPTION:9:oo AM – 2:00 PM \nChippewa Middle School\, Okemos \nCLICK HERE for more details
URL:https://midmichrecycles.org/event/regional-recycling-event-clinton-eaton-ingham-counties/
LOCATION:Chippewa Middle School\, 4000 Okemos Rd.\, Okemos\, MI\, 48864\, United States
END:VEVENT
BEGIN:VEVENT
DTSTART;TZID=America/Halifax:20180929T090000
DTEND;TZID=America/Halifax:20180929T120000
DTSTAMP:20260425T124922
CREATED:20180613T154808Z
LAST-MODIFIED:20180613T172403Z
UID:407-1538211600-1538222400@midmichrecycles.org
SUMMARY:Clinton County Medication Collection
DESCRIPTION:9:00 AM – 12:00 PM \nCommunity Health Fair in St. Johns
URL:https://midmichrecycles.org/event/medication-collection/
LOCATION:Clinton Community Health Fair\, 3055 M-21\, St. Johns\, 48879\, United States
END:VEVENT
BEGIN:VEVENT
DTSTART;TZID=America/Halifax:20180927T140000
DTEND;TZID=America/Halifax:20180927T180000
DTSTAMP:20260425T124922
CREATED:20180613T190546Z
LAST-MODIFIED:20180613T190546Z
UID:487-1538056800-1538071200@midmichrecycles.org
SUMMARY:Ingham County Household Hazardous Collection & Medicinal Sharps Disposal
DESCRIPTION:2:oo PM – 6:00 PM \nIngham County Health Department \nRecycle most household hazardous waste\, except lead paint.
URL:https://midmichrecycles.org/event/ingham-county-household-hazardous-collection-medicinal-sharps-disposal-29/
LOCATION:Ingham County Health Department\, 5303 S. Cedar\, Lansing\, MI\, 48911\, United States
END:VEVENT
BEGIN:VEVENT
DTSTART;TZID=America/Halifax:20180925T140000
DTEND;TZID=America/Halifax:20180925T180000
DTSTAMP:20260425T124922
CREATED:20180613T190508Z
LAST-MODIFIED:20180613T190508Z
UID:485-1537884000-1537898400@midmichrecycles.org
SUMMARY:Ingham County Household Hazardous Collection & Medicinal Sharps Disposal
DESCRIPTION:2:oo PM – 6:00 PM \nIngham County Health Department \nRecycle most household hazardous waste\, except lead paint.
URL:https://midmichrecycles.org/event/ingham-county-household-hazardous-collection-medicinal-sharps-disposal-28/
LOCATION:Ingham County Health Department\, 5303 S. Cedar\, Lansing\, MI\, 48911\, United States
END:VEVENT
BEGIN:VEVENT
DTSTART;TZID=America/Halifax:20180920T140000
DTEND;TZID=America/Halifax:20180920T180000
DTSTAMP:20260425T124922
CREATED:20180613T190429Z
LAST-MODIFIED:20180613T190429Z
UID:483-1537452000-1537466400@midmichrecycles.org
SUMMARY:Ingham County Household Hazardous Collection & Medicinal Sharps Disposal
DESCRIPTION:2:oo PM – 6:00 PM \nIngham County Health Department \nRecycle most household hazardous waste\, except lead paint.
URL:https://midmichrecycles.org/event/ingham-county-household-hazardous-collection-medicinal-sharps-disposal-27/
LOCATION:Ingham County Health Department\, 5303 S. Cedar\, Lansing\, MI\, 48911\, United States
END:VEVENT
BEGIN:VEVENT
DTSTART;TZID=America/Halifax:20180918T140000
DTEND;TZID=America/Halifax:20180918T180000
DTSTAMP:20260425T124922
CREATED:20180613T190350Z
LAST-MODIFIED:20180613T190350Z
UID:481-1537279200-1537293600@midmichrecycles.org
SUMMARY:Ingham County Household Hazardous Collection & Medicinal Sharps Disposal
DESCRIPTION:2:oo PM – 6:00 PM \nIngham County Health Department \nRecycle most household hazardous waste\, except lead paint.
URL:https://midmichrecycles.org/event/ingham-county-household-hazardous-collection-medicinal-sharps-disposal-26/
LOCATION:Ingham County Health Department\, 5303 S. Cedar\, Lansing\, MI\, 48911\, United States
END:VEVENT
BEGIN:VEVENT
DTSTART;TZID=America/Halifax:20180915T090000
DTEND;TZID=America/Halifax:20180915T120000
DTSTAMP:20260425T124922
CREATED:20180613T192625Z
LAST-MODIFIED:20180613T192625Z
UID:496-1537002000-1537012800@midmichrecycles.org
SUMMARY:Monthly Electronics Recycling (Clinton\, Eaton\, Ingham)
DESCRIPTION:9:00 AM – 12:00 PM \nTypically the 3rd Saturday of the month. Check here for details.
URL:https://midmichrecycles.org/event/monthly-electronics-recycling-clinton-eaton-ingham/
LOCATION:Monthly Electronics Recycling\, 5717 Millett Hwy\, Lansing\, MI\, 48917\, United States
END:VEVENT
BEGIN:VEVENT
DTSTART;TZID=America/Halifax:20180915T080000
DTEND;TZID=America/Halifax:20180915T130000
DTSTAMP:20260425T124922
CREATED:20180613T154327Z
LAST-MODIFIED:20180613T154606Z
UID:400-1536998400-1537016400@midmichrecycles.org
SUMMARY:Clinton County Free for Fall Event
DESCRIPTION:8:00 AM – 1:00 PM\nGranger Facility\, Wood Rd. Lansing
URL:https://midmichrecycles.org/event/clinton-county-free-for-fall-event-2/
LOCATION:Granger\, 16980 Wood Rd.\, Lansing\, MI\, 48906\, United States
END:VEVENT
BEGIN:VEVENT
DTSTART;TZID=America/Halifax:20180913T140000
DTEND;TZID=America/Halifax:20180913T180000
DTSTAMP:20260425T124922
CREATED:20180613T190228Z
LAST-MODIFIED:20180613T190228Z
UID:479-1536847200-1536861600@midmichrecycles.org
SUMMARY:Ingham County Household Hazardous Collection & Medicinal Sharps Disposal
DESCRIPTION:2:oo PM – 6:00 PM \nIngham County Health Department \nRecycle most household hazardous waste\, except lead paint.
URL:https://midmichrecycles.org/event/ingham-county-household-hazardous-collection-medicinal-sharps-disposal-25/
LOCATION:Ingham County Health Department\, 5303 S. Cedar\, Lansing\, MI\, 48911\, United States
END:VEVENT
BEGIN:VEVENT
DTSTART;TZID=America/Halifax:20180911T140000
DTEND;TZID=America/Halifax:20180911T180000
DTSTAMP:20260425T124922
CREATED:20180613T190136Z
LAST-MODIFIED:20180613T190136Z
UID:477-1536674400-1536688800@midmichrecycles.org
SUMMARY:Ingham County Household Hazardous Collection & Medicinal Sharps Disposal
DESCRIPTION:2:oo PM – 6:00 PM \nIngham County Health Department \nRecycle most household hazardous waste\, except lead paint.
URL:https://midmichrecycles.org/event/ingham-county-household-hazardous-collection-medicinal-sharps-disposal-24/
LOCATION:Ingham County Health Department\, 5303 S. Cedar\, Lansing\, MI\, 48911\, United States
END:VEVENT
BEGIN:VEVENT
DTSTART;TZID=America/Halifax:20180906T140000
DTEND;TZID=America/Halifax:20180906T180000
DTSTAMP:20260425T124922
CREATED:20180613T190043Z
LAST-MODIFIED:20180613T190043Z
UID:475-1536242400-1536256800@midmichrecycles.org
SUMMARY:Ingham County Household Hazardous Collection & Medicinal Sharps Disposal
DESCRIPTION:2:oo PM – 6:00 PM \nIngham County Health Department \nRecycle most household hazardous waste\, except lead paint.
URL:https://midmichrecycles.org/event/ingham-county-household-hazardous-collection-medicinal-sharps-disposal-23/
LOCATION:Ingham County Health Department\, 5303 S. Cedar\, Lansing\, MI\, 48911\, United States
END:VEVENT
BEGIN:VEVENT
DTSTART;TZID=America/Halifax:20180904T140000
DTEND;TZID=America/Halifax:20180904T180000
DTSTAMP:20260425T124922
CREATED:20180613T185931Z
LAST-MODIFIED:20180613T185931Z
UID:473-1536069600-1536084000@midmichrecycles.org
SUMMARY:Ingham County Household Hazardous Collection & Medicinal Sharps Disposal
DESCRIPTION:2:oo PM – 6:00 PM \nIngham County Health Department \nRecycle most household hazardous waste\, except lead paint.
URL:https://midmichrecycles.org/event/ingham-county-household-hazardous-collection-medicinal-sharps-disposal-22/
LOCATION:Ingham County Health Department\, 5303 S. Cedar\, Lansing\, MI\, 48911\, United States
END:VEVENT
BEGIN:VEVENT
DTSTART;TZID=America/Halifax:20180830T140000
DTEND;TZID=America/Halifax:20180830T180000
DTSTAMP:20260425T124922
CREATED:20180613T185728Z
LAST-MODIFIED:20180613T185728Z
UID:471-1535637600-1535652000@midmichrecycles.org
SUMMARY:Ingham County Household Hazardous Collection & Medicinal Sharps Disposal
DESCRIPTION:2:oo PM – 6:00 PM \nIngham County Health Department \nRecycle most household hazardous waste\, except lead paint.
URL:https://midmichrecycles.org/event/ingham-county-household-hazardous-collection-medicinal-sharps-disposal-21/
LOCATION:Ingham County Health Department\, 5303 S. Cedar\, Lansing\, MI\, 48911\, United States
END:VEVENT
BEGIN:VEVENT
DTSTART;TZID=America/Halifax:20180828T140000
DTEND;TZID=America/Halifax:20180828T180000
DTSTAMP:20260425T124922
CREATED:20180613T185154Z
LAST-MODIFIED:20180613T185154Z
UID:469-1535464800-1535479200@midmichrecycles.org
SUMMARY:Ingham County Household Hazardous Collection & Medicinal Sharps Disposal
DESCRIPTION:2:oo PM – 6:00 PM \nIngham County Health Department \nRecycle most household hazardous waste\, except lead paint.
URL:https://midmichrecycles.org/event/ingham-county-household-hazardous-collection-medicinal-sharps-disposal-20/
LOCATION:Ingham County Health Department\, 5303 S. Cedar\, Lansing\, MI\, 48911\, United States
END:VEVENT
BEGIN:VEVENT
DTSTART;TZID=America/Halifax:20180825T090000
DTEND;TZID=America/Halifax:20180825T140000
DTSTAMP:20260425T124922
CREATED:20180613T172603Z
LAST-MODIFIED:20180613T172603Z
UID:420-1535187600-1535205600@midmichrecycles.org
SUMMARY:Eaton County Recycle-Palooza
DESCRIPTION:9:00 AM – 2:00 PM in Charlotte* \nRecycle electronics**\, hazardous waste\, tires\, books\, hearing aids\, eyeglasses\, document shredding\, medications\, and batteries. \n*Call for an appointment for all events\n**$10 strongly suggested donation for TVs & monitors
URL:https://midmichrecycles.org/event/eaton-county-recycle-palooza/
LOCATION:Charlotte\, Charlotte\, MI\, 48813\, United States
END:VEVENT
BEGIN:VEVENT
DTSTART;TZID=America/Halifax:20180823T140000
DTEND;TZID=America/Halifax:20180823T180000
DTSTAMP:20260425T124922
CREATED:20180613T184446Z
LAST-MODIFIED:20180613T184446Z
UID:467-1535032800-1535047200@midmichrecycles.org
SUMMARY:Ingham County Household Hazardous Collection & Municipal Sharps Disposal
DESCRIPTION:2:oo PM – 6:00 PM \nIngham County Health Department \nRecycle most household hazardous waste\, except lead paint.
URL:https://midmichrecycles.org/event/ingham-county-household-hazardous-collection-municipal-sharps-disposal-2/
LOCATION:Ingham County Health Department\, 5303 S. Cedar\, Lansing\, MI\, 48911\, United States
END:VEVENT
BEGIN:VEVENT
DTSTART;TZID=America/Halifax:20180821T140000
DTEND;TZID=America/Halifax:20180821T180000
DTSTAMP:20260425T124922
CREATED:20180613T184350Z
LAST-MODIFIED:20180613T184350Z
UID:465-1534860000-1534874400@midmichrecycles.org
SUMMARY:Ingham County Household Hazardous Collection & Municipal Sharps Disposal
DESCRIPTION:2:oo PM – 6:00 PM \nIngham County Health Department \nRecycle most household hazardous waste\, except lead paint.
URL:https://midmichrecycles.org/event/ingham-county-household-hazardous-collection-municipal-sharps-disposal/
LOCATION:Ingham County Health Department\, 5303 S. Cedar\, Lansing\, MI\, 48911\, United States
END:VEVENT
BEGIN:VEVENT
DTSTART;TZID=America/Halifax:20180818T090000
DTEND;TZID=America/Halifax:20180818T120000
DTSTAMP:20260425T124922
CREATED:20180613T192541Z
LAST-MODIFIED:20180613T192541Z
UID:494-1534582800-1534593600@midmichrecycles.org
SUMMARY:Monthly Electronics Recycling
DESCRIPTION:9:00 AM – 12:00 PM \nTypically the 3rd Saturday of the month. Check here for details.
URL:https://midmichrecycles.org/event/monthly-electronics-recycling/
LOCATION:Monthly Electronics Recycling\, 5717 Millett Hwy\, Lansing\, MI\, 48917\, United States
END:VEVENT
BEGIN:VEVENT
DTSTART;TZID=America/Halifax:20180816T140000
DTEND;TZID=America/Halifax:20180816T180000
DTSTAMP:20260425T124922
CREATED:20180613T184308Z
LAST-MODIFIED:20180613T184308Z
UID:463-1534428000-1534442400@midmichrecycles.org
SUMMARY:Ingham County Household Hazardous Collection & Medicinal Sharps Disposal
DESCRIPTION:2:oo PM – 6:00 PM \nIngham County Health Department \nRecycle most household hazardous waste\, except lead paint.
URL:https://midmichrecycles.org/event/ingham-county-household-hazardous-collection-medicinal-sharps-disposal-19/
LOCATION:Ingham County Health Department\, 5303 S. Cedar\, Lansing\, MI\, 48911\, United States
END:VEVENT
BEGIN:VEVENT
DTSTART;TZID=America/Halifax:20180814T140000
DTEND;TZID=America/Halifax:20180814T180000
DTSTAMP:20260425T124922
CREATED:20180613T184202Z
LAST-MODIFIED:20180613T184202Z
UID:461-1534255200-1534269600@midmichrecycles.org
SUMMARY:Ingham County Household Hazardous Collection & Medicinal Sharps Disposal
DESCRIPTION:2:oo PM – 6:00 PM \nIngham County Health Department \nRecycle most household hazardous waste\, except lead paint.
URL:https://midmichrecycles.org/event/ingham-county-household-hazardous-collection-medicinal-sharps-disposal-18/
LOCATION:Ingham County Health Department\, 5303 S. Cedar\, Lansing\, MI\, 48911\, United States
END:VEVENT
BEGIN:VEVENT
DTSTART;TZID=America/Halifax:20180809T140000
DTEND;TZID=America/Halifax:20180809T180000
DTSTAMP:20260425T124922
CREATED:20180613T184125Z
LAST-MODIFIED:20180613T184125Z
UID:459-1533823200-1533837600@midmichrecycles.org
SUMMARY:Ingham County Household Hazardous Collection & Medicinal Sharps Disposal
DESCRIPTION:2:oo PM – 6:00 PM \nIngham County Health Department \nRecycle most household hazardous waste\, except lead paint.
URL:https://midmichrecycles.org/event/ingham-county-household-hazardous-collection-medicinal-sharps-disposal-17/
LOCATION:Ingham County Health Department\, 5303 S. Cedar\, Lansing\, MI\, 48911\, United States
END:VEVENT
BEGIN:VEVENT
DTSTART;TZID=America/Halifax:20180807T140000
DTEND;TZID=America/Halifax:20180807T180000
DTSTAMP:20260425T124922
CREATED:20180613T184026Z
LAST-MODIFIED:20180613T184026Z
UID:457-1533650400-1533664800@midmichrecycles.org
SUMMARY:Ingham County Household Hazardous Collection & Medicinal Sharps Disposal
DESCRIPTION:2:oo PM – 6:00 PM \nIngham County Health Department \nRecycle most household hazardous waste\, except lead paint.
URL:https://midmichrecycles.org/event/ingham-county-household-hazardous-collection-medicinal-sharps-disposal-16/
LOCATION:Ingham County Health Department\, 5303 S. Cedar\, Lansing\, MI\, 48911\, United States
END:VEVENT
BEGIN:VEVENT
DTSTART;TZID=America/Halifax:20180802T140000
DTEND;TZID=America/Halifax:20180802T180000
DTSTAMP:20260425T124922
CREATED:20180613T183952Z
LAST-MODIFIED:20180613T183952Z
UID:455-1533218400-1533232800@midmichrecycles.org
SUMMARY:Ingham County Household Hazardous Collection & Medicinal Sharps Disposal
DESCRIPTION:2:oo PM – 6:00 PM \nIngham County Health Department \nRecycle most household hazardous waste\, except lead paint.
URL:https://midmichrecycles.org/event/ingham-county-household-hazardous-collection-medicinal-sharps-disposal-15/
LOCATION:Ingham County Health Department\, 5303 S. Cedar\, Lansing\, MI\, 48911\, United States
END:VEVENT
BEGIN:VEVENT
DTSTART;TZID=America/Halifax:20180731T140000
DTEND;TZID=America/Halifax:20180731T180000
DTSTAMP:20260425T124922
CREATED:20180613T183810Z
LAST-MODIFIED:20180613T183810Z
UID:452-1533045600-1533060000@midmichrecycles.org
SUMMARY:Ingham County Household Hazardous Collection & Medicinal Sharps Disposal
DESCRIPTION:2:oo PM – 6:00 PM \nIngham County Health Department \nRecycle most household hazardous waste\, except lead paint.
URL:https://midmichrecycles.org/event/ingham-county-household-hazardous-collection-medicinal-sharps-disposal-14/
LOCATION:Ingham County Health Department\, 5303 S. Cedar\, Lansing\, MI\, 48911\, United States
END:VEVENT
BEGIN:VEVENT
DTSTART;TZID=America/Halifax:20180726T140000
DTEND;TZID=America/Halifax:20180726T180000
DTSTAMP:20260425T124922
CREATED:20180613T183654Z
LAST-MODIFIED:20180613T183654Z
UID:450-1532613600-1532628000@midmichrecycles.org
SUMMARY:Ingham County Household Hazardous Collection & Medicinal Sharps Disposal
DESCRIPTION:2:oo PM – 6:00 PM \nIngham County Health Department \nRecycle most household hazardous waste\, except lead paint.
URL:https://midmichrecycles.org/event/ingham-county-household-hazardous-collection-medicinal-sharps-disposal-13/
LOCATION:Ingham County Health Department\, 5303 S. Cedar\, Lansing\, MI\, 48911\, United States
END:VEVENT
END:VCALENDAR